BEGIN:VCALENDAR
VERSION:2.0
PRODID:-//Grundschule St. Johann - ECPv4.9.5//NONSGML v1.0//EN
CALSCALE:GREGORIAN
METHOD:PUBLISH
X-WR-CALNAME:Grundschule St. Johann
X-ORIGINAL-URL:https://www.gs-st-johann-konz.de
X-WR-CALDESC:Veranstaltungen im Grundschule St. Johann
BEGIN:VTIMEZONE
TZID:"Europe/Berlin"
BEGIN:DAYLIGHT
TZOFFSETFROM:+0100
TZOFFSETTO:+0200
TZNAME:CEST
DTSTART:20250330T010000
END:DAYLIGHT
BEGIN:STANDARD
TZOFFSETFROM:+0200
TZOFFSETTO:+0100
TZNAME:CET
DTSTART:20251026T010000
END:STANDARD
END:VTIMEZONE
BEGIN:VEVENT
DTSTART;VALUE=DATE:20251013
DTEND;VALUE=DATE:20251027
DTSTAMP:20260426T023243
CREATED:20250617T151910Z
LAST-MODIFIED:20250617T151910Z
UID:7939-1760313600-1761523199@www.gs-st-johann-konz.de
SUMMARY:Herbstferien
DESCRIPTION:
URL:https://www.gs-st-johann-konz.de/?tribe_events=herbstferien-9
LOCATION:Grundschule Karthaus\, Albanstraße 8b\, Konz\, 54329\, Deutschland
CATEGORIES:Gemeinsame Termine
END:VEVENT
END:VCALENDAR